{
 "currentVersion": 10.71,
 "serviceDescription": "Street Cache background is used in the Top of the South Maps website www.topofthesouthmaps.co.nz ",
 "mapName": "Street Cache",
 "description": "Street Cache background is used in the Top of the South Maps website www.topofthesouthmaps.co.nz",
 "copyrightText": "",
 "supportsDynamicLayers": false,
 "layers": [
  {
   "id": 0,
   "name": "DummyCache",
   "parentLayerId": -1,
   "defaultVisibility": true,
   "subLayerIds": null,
   "minScale": 0,
   "maxScale": 0,
   "type": "Feature Layer",
   "geometryType": "esriGeometryPolygon"
  }
 ],
 "tables": [],
 "spatialReference": {
  "wkid": 2193,
  "latestWkid": 2193
 },
 "singleFusedMapCache": true,
 "tileInfo": {
  "rows": 256,
  "cols": 256,
  "dpi": 96,
  "format": "MIXED",
  "compressionQuality": 75,
  "origin": {
   "x": -4020900,
   "y": 19998100
  },
  "spatialReference": {
   "wkid": 2193,
   "latestWkid": 2193
  },
  "lods": [
   {
    "level": 0,
    "resolution": 264.5838625010584,
    "scale": 1000000
   },
   {
    "level": 1,
    "resolution": 132.2919312505292,
    "scale": 500000
   },
   {
    "level": 2,
    "resolution": 66.1459656252646,
    "scale": 250000
   },
   {
    "level": 3,
    "resolution": 26.458386250105836,
    "scale": 100000
   },
   {
    "level": 4,
    "resolution": 13.229193125052918,
    "scale": 50000
   },
   {
    "level": 5,
    "resolution": 6.614596562526459,
    "scale": 25000
   },
   {
    "level": 6,
    "resolution": 5.291677250021167,
    "scale": 20000
   },
   {
    "level": 7,
    "resolution": 3.9687579375158752,
    "scale": 15000
   },
   {
    "level": 8,
    "resolution": 2.6458386250105836,
    "scale": 10000
   },
   {
    "level": 9,
    "resolution": 1.9843789687579376,
    "scale": 7500
   },
   {
    "level": 10,
    "resolution": 1.3229193125052918,
    "scale": 5000
   },
   {
    "level": 11,
    "resolution": 1.0583354500042335,
    "scale": 4000
   },
   {
    "level": 12,
    "resolution": 0.7937515875031751,
    "scale": 3000
   },
   {
    "level": 13,
    "resolution": 0.6614596562526459,
    "scale": 2500
   },
   {
    "level": 14,
    "resolution": 0.5291677250021167,
    "scale": 2000
   },
   {
    "level": 15,
    "resolution": 0.39687579375158755,
    "scale": 1500
   },
   {
    "level": 16,
    "resolution": 0.26458386250105836,
    "scale": 1000
   },
   {
    "level": 17,
    "resolution": 0.19843789687579377,
    "scale": 750
   },
   {
    "level": 18,
    "resolution": 0.13229193125052918,
    "scale": 500
   },
   {
    "level": 19,
    "resolution": 0.06614596562526459,
    "scale": 250
   }
  ]
 },
 "initialExtent": {
  "xmin": 1002657.585222504,
  "ymin": 5291088.4162744945,
  "xmax": 2233501.7135774274,
  "ymax": 5819197.805826607,
  "spatialReference": {
   "wkid": 2193,
   "latestWkid": 2193
  }
 },
 "fullExtent": {
  "xmin": 1342647.848536364,
  "ymin": 5179434.026299048,
  "xmax": 1910444.8174636352,
  "ymax": 5655684.978800952,
  "spatialReference": {
   "wkid": 2193,
   "latestWkid": 2193
  }
 },
 "minScale": 0,
 "maxScale": 0,
 "units": "esriMeters",
 "supportedImageFormatTypes": "PNG32,PNG24,PNG,JPG,DIB,TIFF,EMF,PS,PDF,GIF,SVG,SVGZ,BMP",
 "documentInfo": {
  "Title": "Street Cache",
  "Author": "TOTSM GIS",
  "Comments": "Street Cache background is used in the Top of the South Maps website www.topofthesouthmaps.co.nz ",
  "Subject": "Street Cache background is used in the Top of the South Maps website www.topofthesouthmaps.co.nz",
  "Category": "",
  "AntialiasingMode": "None",
  "TextAntialiasingMode": "Force",
  "Keywords": "Tasman,TDC,Tasman District Council,Nelson,NCC,Nelson City Council,TOTSM,Top of the South Maps,GIS,Maps,NZ,New Zealand"
 },
 "capabilities": "Map,Query,Data",
 "supportedQueryFormats": "JSON, geoJSON",
 "exportTilesAllowed": false,
 "datumTransformations": [
  {
   "geoTransforms": [
    {
     "wkid": 108001,
     "latestWkid": 1241,
     "transformForward": true,
     "name": "NAD_1927_To_NAD_1983_NADCON"
    }
   ]
  },
  {
   "geoTransforms": [
    {
     "wkid": 108001,
     "latestWkid": 1241,
     "transformForward": false,
     "name": "NAD_1927_To_NAD_1983_NADCON"
    }
   ]
  }
 ],
 "supportsDatumTransformation": true,
 "maxRecordCount": 1000,
 "maxImageHeight": 4096,
 "maxImageWidth": 4096,
 "supportedExtensions": "WMSServer"
}
